BEGIN:VCALENDAR
VERSION:2.0
PRODID:-//Raidhse Life - ECPv5.7.1//NONSGML v1.0//EN
CALSCALE:GREGORIAN
METHOD:PUBLISH
X-WR-CALNAME:Raidhse Life
X-ORIGINAL-URL:https://raidhselife.com
X-WR-CALDESC:Events for Raidhse Life
BEGIN:VTIMEZONE
TZID:UTC
BEGIN:STANDARD
TZOFFSETFROM:+0000
TZOFFSETTO:+0000
TZNAME:UTC
DTSTART:20260101T000000
END:STANDARD
END:VTIMEZONE
BEGIN:VEVENT
DTSTART;TZID=UTC:20260620T100000
DTEND;TZID=UTC:20260621T160000
DTSTAMP:20260424T193219
CREATED:20260424T155109Z
LAST-MODIFIED:20260424T155200Z
UID:2277-1781949600-1782057600@raidhselife.com
SUMMARY:Psychosynthesis Online CPD event
DESCRIPTION:Summer School Event
URL:https://raidhselife.com/event/psychosynthesis-online-cpd-event/
LOCATION:Online\, United States
ORGANIZER;CN="Gertrude%20Gill":MAILTO:gertrudegill@raidhselife.com
END:VEVENT
END:VCALENDAR